Workbook

Sheet Summary
A1: ConfigMgr Client Health Report
A2: Total Clients: | B2: =COUNTA(AllData!C:C)-1 -> 0
A4: Count of Clients by Health State | E4: Count of Clients by Inventory Activity | L4: Client Versions | O4: No Client Installed
A5: Client State | B5: Count | F5: DDR | G5: Hardware | H5: Software | I5: Policy Request | L5: Version | M5: Count | O5: =Table_Query_from_ConfgMgr_3[[#This Row],[Column1]] -> 0
A6: Active | B6: =COUNTIF(AllData!C:C,"Active*") -> 0 | E6: Active | F6: =COUNTIF(AllData!F:F,"Active") -> 0 | G6: =COUNTIF(AllData!G:G,"Active") -> 0 | H6: =COUNTIF(AllData!H:H,"Active") -> 0 | I6: =COUNTIF(AllData!I:I,"Active") -> 0 | L6: =IFERROR(INDEX(Table_Query_from_ConfgMgr_2[Version],1,0),"") -> 0 | M6: =IFERROR(INDEX(Table_Query_from_ConfgMgr_2[Count],1,0),"") -> 0
A7: Inactive | B7: =COUNTIF(AllData!C:C,"Inactive*") -> 0 | E7: Inactive | F7: =COUNTIF(AllData!F:F,"Inactive") -> 0 | G7: =COUNTIF(AllData!G:G,"Inactive") -> 0 | H7: =COUNTIF(AllData!H:H,"Inactive") -> 0 | I7: =COUNTIF(AllData!I:I,"Inactive") -> 0 | L7: =IFERROR(INDEX(Table_Query_from_ConfgMgr_2[Version],2,0),"") | M7: =IFERROR(INDEX(Table_Query_from_ConfgMgr_2[Count],2,0),"")
A8: Active/Pass | B8: =COUNTIF(AllData!C:C,"Active/Pass") -> 0 | L8: =IFERROR(INDEX(Table_Query_from_ConfgMgr_2[Version],3,0),"") | M8: =IFERROR(INDEX(Table_Query_from_ConfgMgr_2[Count],3,0),"")
A9: Inactive/Pass | B9: =COUNTIF(AllData!C:C,"Inactive/Pass") -> 0 | L9: =IFERROR(INDEX(Table_Query_from_ConfgMgr_2[Version],4,0),"") | M9: =IFERROR(INDEX(Table_Query_from_ConfgMgr_2[Count],4,0),"")
A10: Active/Fail | B10: =COUNTIF(AllData!C:C,"Active/Fail") -> 0 | E10: Charts | J10: Tab | L10: =IFERROR(INDEX(Table_Query_from_ConfgMgr_2[Version],5,0),"") | M10: =IFERROR(INDEX(Table_Query_from_ConfgMgr_2[Count],5,0),"")
A11: Inactive/Fail | B11: =COUNTIF(AllData!C:C,"Inactive/Fail") -> 0 | E11: Client Health States by Percentage | J11: ClientStates | L11: =IFERROR(INDEX(Table_Query_from_ConfgMgr_2[Version],6,0),"") | M11: =IFERROR(INDEX(Table_Query_from_ConfgMgr_2[Count],6,0),"")
A12: Active/Unknown | B12: =COUNTIF(AllData!C:C,"Active/Unknown") -> 0 | E12: Active vs Inactive Clients by Percentage | J12: Active-Inactive
A13: Inactive/Unknown | B13: =COUNTIF(AllData!C:C,"Inactive/Unknown") -> 0 | E13: Client Health Evaluation State by Percentage | J13: EvalState | L13: Computers Not Rebooted in the Last…
A14: Pass | B14: =COUNTIF(AllData!C:C,"*Pass") -> 0 | E14: Count of Active / Inactive Clients by Inventory Activity | J14: InventoryTypes | L14: Time Period | M14: Count | N14: Percentage
A15: Fail | B15: =COUNTIF(AllData!C:C,"*Fail") -> 0 | L15: =INDEX(Table_Query_from_ConfgMgr_4[Column1],1,0) -> 0 | M15: =INDEX(Table_Query_from_ConfgMgr_4[Column2],1,0) -> 0 | N15: =M15/B2*100 -> #DIV/0!
A16: Unknown | B16: =COUNTIF(AllData!C:C,"*Unknown") -> 0 | E16: Data Tables | J16: Tab | L16: =INDEX(Table_Query_from_ConfgMgr_4[Column1],2,0) -> 0 | M16: =INDEX(Table_Query_from_ConfgMgr_4[Column2],2,0) -> 0 | N16: =M16/B2*100 -> #DIV/0!
E17: All Inactive Clients | J17: Inactive | L17: =INDEX(Table_Query_from_ConfgMgr_4[Column1],3,0) -> 0 | M17: =INDEX(Table_Query_from_ConfgMgr_4[Column2],3,0) -> 0 | N17: =M17/B2*100 -> #DIV/0!
A18: Site Info | E18: All Clients with Out of Date DDR | J18: InactiveDDR | L18: =INDEX(Table_Query_from_ConfgMgr_4[Column1],4,0) -> 0 | M18: =INDEX(Table_Query_from_ConfgMgr_4[Column2],4,0) -> 0 | N18: =M18/B2*100 -> #DIV/0!
A19: Site Code | B19: =Table_Query_from_ConfgMgr11[SiteCode] -> 0 | E19: All Clients with Out of Date Hardware Inventory | J19: InactiveHW | L19: =INDEX(Table_Query_from_ConfgMgr_4[Column1],5,0) -> 0 | M19: =INDEX(Table_Query_from_ConfgMgr_4[Column2],5,0) -> 0 | N19: =M19/B2*100 -> #DIV/0!
A20: Site Name | B20: =Table_Query_from_ConfgMgr11[SiteName] -> 0 | E20: All Clients with Out of Date Software Inventory | J20: InactiveSW
A21: Base Version | B21: =Table_Query_from_ConfgMgr11[Version] -> 0 | E21: All Clients with Out of Date Policy Request | J21: InactivePolicy
A22: Management Point | B22: =Table_Query_from_ConfgMgr11[ServerName] -> 0 | E22: All Clients that Failed their Last Heath Evaluation / Remediation | J22: FailEval
E23: Details of Client Health Evaluation / Remediation Failures | J23: FailDetail
A24: Client Health Thresholds (Days) | E24: All Clients that have no Health Evaluation Data | J24: EvalUnknown
A25: Client Policy | B25: =Table_Query_from_ConfgMgr_1[PolicyInactiveInterval] -> 0 | E25: All Discovered Systems (with Last Boot Time and Client Version) | J25: ClientVer
A26: Heatbeat (DDR) | B26: =Table_Query_from_ConfgMgr_1[DDRInactiveInterval] -> 0 | E26: All Systems that have Failed to Install the ConfigMgr Client | J26: ClientFail
A27: Hardware Inventory | B27: =Table_Query_from_ConfgMgr_1[HWInactiveInterval] -> 0 | E27: All Client Health Data | J27: AllData | L27: Created by Trevor Jones
A28: Software Inventory | B28: =Table_Query_from_ConfgMgr_1[SWInactiveInterval] -> 0 | L28: http://smsagent.wordpress.com/free-configmgr-reports/client-health-report/
A29: Status Messages | B29: =Table_Query_from_ConfgMgr_1[StatusInactiveInterval] -> 0 | L29: v1 - August 18, 2015

Sheet Hidden_Data
A1: SiteCode | B1: SiteName | C1: Version | D1: ServerName | F1: SettingsID | G1: Column1 | H1: DDRInactiveInterval | I1: SWInactiveInterval | J1: HWInactiveInterval | K1: StatusInactiveInterval | L1: PolicyInactiveInterval | M1: Column2 | N1: CleanUpInterval
F4: Version | G4: Count | I4: Column1 | K4: Column1 | L4: Column2 | M4: SortOrder

Sheet Inactive
A1: All Inactive Clients
A2: Sorted by Last Active Time
A3: Computer Name | B3: User Name | C3: ClientStateDescription | D3: ClientActiveStatus | E3: LastActiveTime | F3: IsActiveDDR | G3: IsActiveHW | H3: IsActiveSW | I3: ISActivePolicyRequest | J3: IsActiveStatusMessages | K3: LastOnline | L3: LastDDR | M3: LastHW | N3: LastSW | O3: LastPolicyRequest | P3: LastStatusMessage | Q3: LastHealthEvaluation | R3: Last Health Evaluation Result | S3: Last Evaluation Healthy | T3: ClientRemediationSuccess | U3: ExpectedNextPolicyRequest

Sheet InactiveDDR
A1: All Clients with Out of Date DDR
A2: Sorted by Last DDR Date
A3: Computer Name | B3: User Name | C3: ClientStateDescription | D3: ClientActiveStatus | E3: LastActiveTime | F3: IsActiveDDR | G3: IsActiveHW | H3: IsActiveSW | I3: ISActivePolicyRequest | J3: IsActiveStatusMessages | K3: LastOnline | L3: LastDDR | M3: LastHW | N3: LastSW | O3: LastPolicyRequest | P3: LastStatusMessage | Q3: LastHealthEvaluation | R3: Last Health Evaluation Result | S3: Last Evaluation Healthy | T3: ClientRemediationSuccess | U3: ExpectedNextPolicyRequest

Sheet InactiveHW
A1: All Clients with Out of Date Hardware Inventory
A2: Sorted by Last Hardware Inventory Date
A3: Computer Name | B3: User Name | C3: ClientStateDescription | D3: ClientActiveStatus | E3: LastActiveTime | F3: IsActiveDDR | G3: IsActiveHW | H3: IsActiveSW | I3: ISActivePolicyRequest | J3: IsActiveStatusMessages | K3: LastOnline | L3: LastDDR | M3: LastHW | N3: LastSW | O3: LastPolicyRequest | P3: LastStatusMessage | Q3: LastHealthEvaluation | R3: Last Health Evaluation Result | S3: Last Evaluation Healthy | T3: ClientRemediationSuccess | U3: ExpectedNextPolicyRequest

Sheet InactiveSW
A1: All Clients with Out of Date Software Inventory
A2: Sorted by Last Software Inventory Date
A3: Computer Name | B3: User Name | C3: ClientStateDescription | D3: ClientActiveStatus | E3: LastActiveTime | F3: IsActiveDDR | G3: IsActiveHW | H3: IsActiveSW | I3: ISActivePolicyRequest | J3: IsActiveStatusMessages | K3: LastOnline | L3: LastDDR | M3: LastHW | N3: LastSW | O3: LastPolicyRequest | P3: LastStatusMessage | Q3: LastHealthEvaluation | R3: Last Health Evaluation Result | S3: Last Evaluation Healthy | T3: ClientRemediationSuccess | U3: ExpectedNextPolicyRequest

Sheet InactivePolicy
A1: All Clients with Out of Date Policy Request
A2: Sorted by Last Policy Request Date
A3: Computer Name | B3: User Name | C3: ClientStateDescription | D3: ClientActiveStatus | E3: LastActiveTime | F3: IsActiveDDR | G3: IsActiveHW | H3: IsActiveSW | I3: ISActivePolicyRequest | J3: IsActiveStatusMessages | K3: LastOnline | L3: LastDDR | M3: LastHW | N3: LastSW | O3: LastPolicyRequest | P3: LastStatusMessage | Q3: LastHealthEvaluation | R3: Last Health Evaluation Result | S3: Last Evaluation Healthy | T3: ClientRemediationSuccess | U3: ExpectedNextPolicyRequest

Sheet FailEval
A1: All Clients that Failed their Last Heath Evaluation / Remediation
A2: Sorted by Last Health Evaluation Date
A3: Computer Name | B3: User Name | C3: ClientStateDescription | D3: ClientActiveStatus | E3: LastActiveTime | F3: IsActiveDDR | G3: IsActiveHW | H3: IsActiveSW | I3: ISActivePolicyRequest | J3: IsActiveStatusMessages | K3: LastOnline | L3: LastDDR | M3: LastHW | N3: LastSW | O3: LastPolicyRequest | P3: LastStatusMessage | Q3: LastHealthEvaluation | R3: Last Health Evaluation Result | S3: Last Evaluation Healthy | T3: ClientRemediationSuccess | U3: ExpectedNextPolicyRequest

Sheet FailDetail
A1: Details of Client Health Evaluation / Remediation Failures
A2: Sorted by Last Health Evaluation Date
A3: Computer Name | B3: EvalTime | C3: Evaluation Result | D3: HealthCheckDescription | E3: ResultDetail | F3: ResultCode | G3: ResultType

Sheet EvalUnknown
A1: All Clients That Have No Health Evaluation Data
A2: Sorted by Last Active Time
A3: Computer Name | B3: User Name | C3: ClientStateDescription | D3: ClientActiveStatus | E3: LastActiveTime | F3: IsActiveDDR | G3: IsActiveHW | H3: IsActiveSW | I3: ISActivePolicyRequest | J3: IsActiveStatusMessages | K3: LastOnline | L3: LastDDR | M3: LastHW | N3: LastSW | O3: LastPolicyRequest | P3: LastStatusMessage | Q3: LastHealthEvaluation | R3: Last Health Evaluation Result | S3: Last Evaluation Healthy | T3: ClientRemediationSuccess | U3: ExpectedNextPolicyRequest

Sheet ClientVer
A1: All Discovered Systems (with Last Boot Time and Client Version)
A2: Sorted by Computer Name
A3: Computer Name | B3: User Name | C3: Last Boot Time | D3: Client Version

Sheet ClientFail
A1: All Systems that Failed to Install the ConfigMgr Client
A2: Sorted by Computer Name
A3: Name | B3: Status | C3: Initial Attempt Date | D3: Most Recent Attempt Date | E3: Number of Attempts | F3: DeviceOS | G3: Last Installation Error Code

Sheet AllData
A1: Computer Name | B1: User Name | C1: ClientStateDescription | D1: ClientActiveStatus | E1: LastActiveTime | F1: IsActiveDDR | G1: IsActiveHW | H1: IsActiveSW | I1: ISActivePolicyRequest | J1: IsActiveStatusMessages | K1: LastOnline | L1: LastDDR | M1: LastHW | N1: LastSW | O1: LastPolicyRequest | P1: LastStatusMessage | Q1: LastHealthEvaluation | R1: Last Health Evaluation Result | S1: Last Evaluation Healthy | T1: ClientRemediationSuccess | U1: ExpectedNextPolicyRequest
